BEGIN:VCALENDAR
VERSION:2.0
PRODID:-//Vegan Fashion Repository - ECPv6.15.20//NONSGML v1.0//EN
CALSCALE:GREGORIAN
METHOD:PUBLISH
X-ORIGINAL-URL:https://veganfashionrepository.com
X-WR-CALDESC:Events for Vegan Fashion Repository
REFRESH-INTERVAL;VALUE=DURATION:PT1H
X-Robots-Tag:noindex
X-PUBLISHED-TTL:PT1H
BEGIN:VTIMEZONE
TZID:Asia/Tokyo
BEGIN:STANDARD
TZOFFSETFROM:+0900
TZOFFSETTO:+0900
TZNAME:JST
DTSTART:20240101T000000
END:STANDARD
END:VTIMEZONE
BEGIN:VEVENT
DTSTART;TZID=Asia/Tokyo:20251001T100000
DTEND;TZID=Asia/Tokyo:20251003T170000
DTSTAMP:20260422T111437
CREATED:20250909T085346Z
LAST-MODIFIED:20250909T085821Z
UID:17757-1759312800-1759510800@veganfashionrepository.com
SUMMARY:FaW TOKYO – Fashion World Tokyo
DESCRIPTION:Free (Registration Required)
URL:https://veganfashionrepository.com/event/faw-tokyo-fashion-world-tokyo/
LOCATION:Tokyo Big Sight\, 3-11-1 Ariake\, Koto-ku\, Tokyo\, Japan
CATEGORIES:Showcase / Fair,Textiles
END:VEVENT
END:VCALENDAR